BEGIN:VCALENDAR
VERSION:2.0
PRODID:-//Grace Lutheran Church - ECPv6.15.20//NONSGML v1.0//EN
CALSCALE:GREGORIAN
METHOD:PUBLISH
X-ORIGINAL-URL:https://gracemuncielcms.com
X-WR-CALDESC:Events for Grace Lutheran Church
REFRESH-INTERVAL;VALUE=DURATION:PT1H
X-Robots-Tag:noindex
X-PUBLISHED-TTL:PT1H
BEGIN:VTIMEZONE
TZID:UTC
BEGIN:STANDARD
TZOFFSETFROM:+0000
TZOFFSETTO:+0000
TZNAME:UTC
DTSTART:20250101T000000
END:STANDARD
END:VTIMEZONE
BEGIN:VEVENT
DTSTART;TZID=UTC:20260402T190000
DTEND;TZID=UTC:20260402T200000
DTSTAMP:20260423T181958
CREATED:20260218T225555Z
LAST-MODIFIED:20260218T230950Z
UID:10004784-1775156400-1775160000@gracemuncielcms.com
SUMMARY:Maundy Thursday
DESCRIPTION:
URL:https://gracemuncielcms.com/event/maundy-thursday/
LOCATION:Grace Evangelical Lutheran Church\, 610 N Reserve St\, Muncie\, IN\, 47303\, United States
CATEGORIES:Divine Services,Outreach
ATTACH;FMTTYPE=image/jpeg:https://gracemuncielcms.com/wp-content/uploads/2024/03/Maundy-Thursday.jpg
GEO:40.1991599;-85.3939106
X-APPLE-STRUCTURED-LOCATION;VALUE=URI;X-ADDRESS=Grace Evangelical Lutheran Church 610 N Reserve St Muncie IN 47303 United States;X-APPLE-RADIUS=500;X-TITLE=610 N Reserve St:geo:-85.3939106,40.1991599
END:VEVENT
END:VCALENDAR