BEGIN:VCALENDAR
VERSION:2.0
PRODID:-//Grace Lutheran Church - ECPv6.15.20//NONSGML v1.0//EN
CALSCALE:GREGORIAN
METHOD:PUBLISH
X-WR-CALNAME:Grace Lutheran Church
X-ORIGINAL-URL:https://gracemuncielcms.com
X-WR-CALDESC:Events for Grace Lutheran Church
REFRESH-INTERVAL;VALUE=DURATION:PT1H
X-Robots-Tag:noindex
X-PUBLISHED-TTL:PT1H
BEGIN:VTIMEZONE
TZID:UTC
BEGIN:STANDARD
TZOFFSETFROM:+0000
TZOFFSETTO:+0000
TZNAME:UTC
DTSTART:20250101T000000
END:STANDARD
END:VTIMEZONE
BEGIN:VEVENT
DTSTART;TZID=UTC:20260405T073000
DTEND;TZID=UTC:20260405T083000
DTSTAMP:20260423T170611
CREATED:20260218T231440Z
LAST-MODIFIED:20260218T231615Z
UID:10004787-1775374200-1775377800@gracemuncielcms.com
SUMMARY:Easter Sunday 7:30 Service
DESCRIPTION:The Resurrection of Our Lord
URL:https://gracemuncielcms.com/event/easter-sunday-730-service/
LOCATION:Grace Evangelical Lutheran Church\, 610 N Reserve St\, Muncie\, IN\, 47303\, United States
CATEGORIES:Divine Services,Outreach
ATTACH;FMTTYPE=image/jpeg:https://gracemuncielcms.com/wp-content/uploads/2024/03/Easter-Sunday.jpg
GEO:40.1991599;-85.3939106
X-APPLE-STRUCTURED-LOCATION;VALUE=URI;X-ADDRESS=Grace Evangelical Lutheran Church 610 N Reserve St Muncie IN 47303 United States;X-APPLE-RADIUS=500;X-TITLE=610 N Reserve St:geo:-85.3939106,40.1991599
END:VEVENT
BEGIN:VEVENT
DTSTART;TZID=UTC:20260405T103000
DTEND;TZID=UTC:20260405T113000
DTSTAMP:20260423T170611
CREATED:20260218T231524Z
LAST-MODIFIED:20260218T231648Z
UID:10004788-1775385000-1775388600@gracemuncielcms.com
SUMMARY:Easter Sunday 10:30 Service
DESCRIPTION:The Resurrection of Our Lord
URL:https://gracemuncielcms.com/event/easter-sunday-1030-service/
LOCATION:Grace Evangelical Lutheran Church\, 610 N Reserve St\, Muncie\, IN\, 47303\, United States
CATEGORIES:Divine Services,Outreach
ATTACH;FMTTYPE=image/jpeg:https://gracemuncielcms.com/wp-content/uploads/2024/03/Easter-Sunday.jpg
GEO:40.1991599;-85.3939106
X-APPLE-STRUCTURED-LOCATION;VALUE=URI;X-ADDRESS=Grace Evangelical Lutheran Church 610 N Reserve St Muncie IN 47303 United States;X-APPLE-RADIUS=500;X-TITLE=610 N Reserve St:geo:-85.3939106,40.1991599
END:VEVENT
END:VCALENDAR