BEGIN:VCALENDAR
VERSION:2.0
PRODID:-//Grace Lutheran Church - ECPv6.15.20//NONSGML v1.0//EN
CALSCALE:GREGORIAN
METHOD:PUBLISH
X-WR-CALNAME:Grace Lutheran Church
X-ORIGINAL-URL:https://gracemuncielcms.com
X-WR-CALDESC:Events for Grace Lutheran Church
REFRESH-INTERVAL;VALUE=DURATION:PT1H
X-Robots-Tag:noindex
X-PUBLISHED-TTL:PT1H
BEGIN:VTIMEZONE
TZID:UTC
BEGIN:STANDARD
TZOFFSETFROM:+0000
TZOFFSETTO:+0000
TZNAME:UTC
DTSTART:20250101T000000
END:STANDARD
END:VTIMEZONE
BEGIN:VEVENT
DTSTART;TZID=UTC:20260412T103000
DTEND;TZID=UTC:20260412T113000
DTSTAMP:20260423T182105
CREATED:20260127T032040Z
LAST-MODIFIED:20260218T231151Z
UID:10004691-1775989800-1775993400@gracemuncielcms.com
SUMMARY:Divine Service - Sunday 10:30 am
DESCRIPTION:
URL:https://gracemuncielcms.com/event/divine-service-sunday-1030-am/2026-04-12/
LOCATION:Grace Evangelical Lutheran Church\, 610 N Reserve St\, Muncie\, IN\, 47303\, United States
CATEGORIES:Divine Services,Education
ATTACH;FMTTYPE=image/jpeg:https://gracemuncielcms.com/wp-content/uploads/2021/12/11-e1729522131236.jpg
GEO:40.1991599;-85.3939106
X-APPLE-STRUCTURED-LOCATION;VALUE=URI;X-ADDRESS=Grace Evangelical Lutheran Church 610 N Reserve St Muncie IN 47303 United States;X-APPLE-RADIUS=500;X-TITLE=610 N Reserve St:geo:-85.3939106,40.1991599
END:VEVENT
BEGIN:VEVENT
DTSTART;TZID=UTC:20260412T080000
DTEND;TZID=UTC:20260412T090000
DTSTAMP:20260423T182105
CREATED:20260127T031749Z
LAST-MODIFIED:20260218T231249Z
UID:10004646-1775980800-1775984400@gracemuncielcms.com
SUMMARY:Divine Service - Sunday 8am
DESCRIPTION:
URL:https://gracemuncielcms.com/event/divine-service-sunday-8am/2026-04-12/
LOCATION:Grace Evangelical Lutheran Church\, 610 N Reserve St\, Muncie\, IN\, 47303\, United States
CATEGORIES:Divine Services,Education
ATTACH;FMTTYPE=image/jpeg:https://gracemuncielcms.com/wp-content/uploads/2021/12/11-e1729522131236.jpg
GEO:40.1991599;-85.3939106
X-APPLE-STRUCTURED-LOCATION;VALUE=URI;X-ADDRESS=Grace Evangelical Lutheran Church 610 N Reserve St Muncie IN 47303 United States;X-APPLE-RADIUS=500;X-TITLE=610 N Reserve St:geo:-85.3939106,40.1991599
END:VEVENT
BEGIN:VEVENT
DTSTART;TZID=UTC:20260405T103000
DTEND;TZID=UTC:20260405T113000
DTSTAMP:20260423T182105
CREATED:20260218T231524Z
LAST-MODIFIED:20260218T231648Z
UID:10004788-1775385000-1775388600@gracemuncielcms.com
SUMMARY:Easter Sunday 10:30 Service
DESCRIPTION:The Resurrection of Our Lord
URL:https://gracemuncielcms.com/event/easter-sunday-1030-service/
LOCATION:Grace Evangelical Lutheran Church\, 610 N Reserve St\, Muncie\, IN\, 47303\, United States
CATEGORIES:Divine Services,Outreach
ATTACH;FMTTYPE=image/jpeg:https://gracemuncielcms.com/wp-content/uploads/2024/03/Easter-Sunday.jpg
GEO:40.1991599;-85.3939106
X-APPLE-STRUCTURED-LOCATION;VALUE=URI;X-ADDRESS=Grace Evangelical Lutheran Church 610 N Reserve St Muncie IN 47303 United States;X-APPLE-RADIUS=500;X-TITLE=610 N Reserve St:geo:-85.3939106,40.1991599
END:VEVENT
BEGIN:VEVENT
DTSTART;TZID=UTC:20260405T073000
DTEND;TZID=UTC:20260405T083000
DTSTAMP:20260423T182105
CREATED:20260218T231440Z
LAST-MODIFIED:20260218T231615Z
UID:10004787-1775374200-1775377800@gracemuncielcms.com
SUMMARY:Easter Sunday 7:30 Service
DESCRIPTION:The Resurrection of Our Lord
URL:https://gracemuncielcms.com/event/easter-sunday-730-service/
LOCATION:Grace Evangelical Lutheran Church\, 610 N Reserve St\, Muncie\, IN\, 47303\, United States
CATEGORIES:Divine Services,Outreach
ATTACH;FMTTYPE=image/jpeg:https://gracemuncielcms.com/wp-content/uploads/2024/03/Easter-Sunday.jpg
GEO:40.1991599;-85.3939106
X-APPLE-STRUCTURED-LOCATION;VALUE=URI;X-ADDRESS=Grace Evangelical Lutheran Church 610 N Reserve St Muncie IN 47303 United States;X-APPLE-RADIUS=500;X-TITLE=610 N Reserve St:geo:-85.3939106,40.1991599
END:VEVENT
BEGIN:VEVENT
DTSTART;TZID=UTC:20260404T190000
DTEND;TZID=UTC:20260404T200000
DTSTAMP:20260423T182105
CREATED:20260218T230907Z
LAST-MODIFIED:20260218T230907Z
UID:10004786-1775329200-1775332800@gracemuncielcms.com
SUMMARY:Easter Vigil Service
DESCRIPTION:
URL:https://gracemuncielcms.com/event/easter-vigil-service/
LOCATION:Grace Evangelical Lutheran Church\, 610 N Reserve St\, Muncie\, IN\, 47303\, United States
CATEGORIES:Divine Services,Outreach
ATTACH;FMTTYPE=image/jpeg:https://gracemuncielcms.com/wp-content/uploads/2026/02/easter-vigil.jpg
GEO:40.1991599;-85.3939106
X-APPLE-STRUCTURED-LOCATION;VALUE=URI;X-ADDRESS=Grace Evangelical Lutheran Church 610 N Reserve St Muncie IN 47303 United States;X-APPLE-RADIUS=500;X-TITLE=610 N Reserve St:geo:-85.3939106,40.1991599
END:VEVENT
BEGIN:VEVENT
DTSTART;TZID=UTC:20260403T190000
DTEND;TZID=UTC:20260403T200000
DTSTAMP:20260423T182105
CREATED:20260218T225652Z
LAST-MODIFIED:20260218T225713Z
UID:10004785-1775242800-1775246400@gracemuncielcms.com
SUMMARY:Good Friday Service
DESCRIPTION:
URL:https://gracemuncielcms.com/event/good-friday-service/
LOCATION:Grace Evangelical Lutheran Church\, 610 N Reserve St\, Muncie\, IN\, 47303\, United States
CATEGORIES:Divine Services,Outreach
ATTACH;FMTTYPE=image/jpeg:https://gracemuncielcms.com/wp-content/uploads/2024/03/Good-Friday.jpg
GEO:40.1991599;-85.3939106
X-APPLE-STRUCTURED-LOCATION;VALUE=URI;X-ADDRESS=Grace Evangelical Lutheran Church 610 N Reserve St Muncie IN 47303 United States;X-APPLE-RADIUS=500;X-TITLE=610 N Reserve St:geo:-85.3939106,40.1991599
END:VEVENT
BEGIN:VEVENT
DTSTART;TZID=UTC:20260402T190000
DTEND;TZID=UTC:20260402T200000
DTSTAMP:20260423T182105
CREATED:20260218T225555Z
LAST-MODIFIED:20260218T230950Z
UID:10004784-1775156400-1775160000@gracemuncielcms.com
SUMMARY:Maundy Thursday
DESCRIPTION:
URL:https://gracemuncielcms.com/event/maundy-thursday/
LOCATION:Grace Evangelical Lutheran Church\, 610 N Reserve St\, Muncie\, IN\, 47303\, United States
CATEGORIES:Divine Services,Outreach
ATTACH;FMTTYPE=image/jpeg:https://gracemuncielcms.com/wp-content/uploads/2024/03/Maundy-Thursday.jpg
GEO:40.1991599;-85.3939106
X-APPLE-STRUCTURED-LOCATION;VALUE=URI;X-ADDRESS=Grace Evangelical Lutheran Church 610 N Reserve St Muncie IN 47303 United States;X-APPLE-RADIUS=500;X-TITLE=610 N Reserve St:geo:-85.3939106,40.1991599
END:VEVENT
BEGIN:VEVENT
DTSTART;TZID=UTC:20260329T103000
DTEND;TZID=UTC:20260329T113000
DTSTAMP:20260423T182105
CREATED:20260127T032040Z
LAST-MODIFIED:20260218T231151Z
UID:10004689-1774780200-1774783800@gracemuncielcms.com
SUMMARY:Divine Service - Sunday 10:30 am
DESCRIPTION:
URL:https://gracemuncielcms.com/event/divine-service-sunday-1030-am/2026-03-29/
LOCATION:Grace Evangelical Lutheran Church\, 610 N Reserve St\, Muncie\, IN\, 47303\, United States
CATEGORIES:Divine Services,Education
ATTACH;FMTTYPE=image/jpeg:https://gracemuncielcms.com/wp-content/uploads/2021/12/11-e1729522131236.jpg
GEO:40.1991599;-85.3939106
X-APPLE-STRUCTURED-LOCATION;VALUE=URI;X-ADDRESS=Grace Evangelical Lutheran Church 610 N Reserve St Muncie IN 47303 United States;X-APPLE-RADIUS=500;X-TITLE=610 N Reserve St:geo:-85.3939106,40.1991599
END:VEVENT
BEGIN:VEVENT
DTSTART;TZID=UTC:20260329T080000
DTEND;TZID=UTC:20260329T090000
DTSTAMP:20260423T182105
CREATED:20260127T031749Z
LAST-MODIFIED:20260218T231249Z
UID:10004644-1774771200-1774774800@gracemuncielcms.com
SUMMARY:Divine Service - Sunday 8am
DESCRIPTION:
URL:https://gracemuncielcms.com/event/divine-service-sunday-8am/2026-03-29/
LOCATION:Grace Evangelical Lutheran Church\, 610 N Reserve St\, Muncie\, IN\, 47303\, United States
CATEGORIES:Divine Services,Education
ATTACH;FMTTYPE=image/jpeg:https://gracemuncielcms.com/wp-content/uploads/2021/12/11-e1729522131236.jpg
GEO:40.1991599;-85.3939106
X-APPLE-STRUCTURED-LOCATION;VALUE=URI;X-ADDRESS=Grace Evangelical Lutheran Church 610 N Reserve St Muncie IN 47303 United States;X-APPLE-RADIUS=500;X-TITLE=610 N Reserve St:geo:-85.3939106,40.1991599
END:VEVENT
BEGIN:VEVENT
DTSTART;TZID=UTC:20260325T190000
DTEND;TZID=UTC:20260325T200000
DTSTAMP:20260423T182105
CREATED:20260218T225409Z
LAST-MODIFIED:20260218T231808Z
UID:10004731-1774465200-1774468800@gracemuncielcms.com
SUMMARY:Lenten Midweek Service
DESCRIPTION:Please join us for a pre-service meal starting at 6:00 pm each night.
URL:https://gracemuncielcms.com/event/lenten-midweek-service/2026-03-25/
LOCATION:Grace Evangelical Lutheran Church\, 610 N Reserve St\, Muncie\, IN\, 47303\, United States
ATTACH;FMTTYPE=image/jpeg:https://gracemuncielcms.com/wp-content/uploads/2026/02/lent-services.jpg
GEO:40.1991599;-85.3939106
X-APPLE-STRUCTURED-LOCATION;VALUE=URI;X-ADDRESS=Grace Evangelical Lutheran Church 610 N Reserve St Muncie IN 47303 United States;X-APPLE-RADIUS=500;X-TITLE=610 N Reserve St:geo:-85.3939106,40.1991599
END:VEVENT
END:VCALENDAR