BEGIN:VCALENDAR
VERSION:2.0
PRODID:-//Grace Lutheran Church - ECPv6.15.20//NONSGML v1.0//EN
CALSCALE:GREGORIAN
METHOD:PUBLISH
X-ORIGINAL-URL:https://gracemuncielcms.com
X-WR-CALDESC:Events for Grace Lutheran Church
REFRESH-INTERVAL;VALUE=DURATION:PT1H
X-Robots-Tag:noindex
X-PUBLISHED-TTL:PT1H
BEGIN:VTIMEZONE
TZID:UTC
BEGIN:STANDARD
TZOFFSETFROM:+0000
TZOFFSETTO:+0000
TZNAME:UTC
DTSTART:20250101T000000
END:STANDARD
END:VTIMEZONE
BEGIN:VEVENT
DTSTART;TZID=UTC:20260531T080000
DTEND;TZID=UTC:20260531T090000
DTSTAMP:20260423T193303
CREATED:20260127T031749Z
LAST-MODIFIED:20260218T231249Z
UID:10004653-1780214400-1780218000@gracemuncielcms.com
SUMMARY:Divine Service - Sunday 8am
DESCRIPTION:
URL:https://gracemuncielcms.com/event/divine-service-sunday-8am/2026-05-31/
LOCATION:Grace Evangelical Lutheran Church\, 610 N Reserve St\, Muncie\, IN\, 47303\, United States
CATEGORIES:Divine Services,Education
ATTACH;FMTTYPE=image/jpeg:https://gracemuncielcms.com/wp-content/uploads/2021/12/11-e1729522131236.jpg
GEO:40.1991599;-85.3939106
X-APPLE-STRUCTURED-LOCATION;VALUE=URI;X-ADDRESS=Grace Evangelical Lutheran Church 610 N Reserve St Muncie IN 47303 United States;X-APPLE-RADIUS=500;X-TITLE=610 N Reserve St:geo:-85.3939106,40.1991599
END:VEVENT
BEGIN:VEVENT
DTSTART;TZID=UTC:20260531T103000
DTEND;TZID=UTC:20260531T113000
DTSTAMP:20260423T193303
CREATED:20260127T032040Z
LAST-MODIFIED:20260218T231151Z
UID:10004698-1780223400-1780227000@gracemuncielcms.com
SUMMARY:Divine Service - Sunday 10:30 am
DESCRIPTION:
URL:https://gracemuncielcms.com/event/divine-service-sunday-1030-am/2026-05-31/
LOCATION:Grace Evangelical Lutheran Church\, 610 N Reserve St\, Muncie\, IN\, 47303\, United States
CATEGORIES:Divine Services,Education
ATTACH;FMTTYPE=image/jpeg:https://gracemuncielcms.com/wp-content/uploads/2021/12/11-e1729522131236.jpg
GEO:40.1991599;-85.3939106
X-APPLE-STRUCTURED-LOCATION;VALUE=URI;X-ADDRESS=Grace Evangelical Lutheran Church 610 N Reserve St Muncie IN 47303 United States;X-APPLE-RADIUS=500;X-TITLE=610 N Reserve St:geo:-85.3939106,40.1991599
END:VEVENT
BEGIN:VEVENT
DTSTART;TZID=UTC:20260607T080000
DTEND;TZID=UTC:20260607T090000
DTSTAMP:20260423T193303
CREATED:20260127T031749Z
LAST-MODIFIED:20260218T231249Z
UID:10004654-1780819200-1780822800@gracemuncielcms.com
SUMMARY:Divine Service - Sunday 8am
DESCRIPTION:
URL:https://gracemuncielcms.com/event/divine-service-sunday-8am/2026-06-07/
LOCATION:Grace Evangelical Lutheran Church\, 610 N Reserve St\, Muncie\, IN\, 47303\, United States
CATEGORIES:Divine Services,Education
ATTACH;FMTTYPE=image/jpeg:https://gracemuncielcms.com/wp-content/uploads/2021/12/11-e1729522131236.jpg
GEO:40.1991599;-85.3939106
X-APPLE-STRUCTURED-LOCATION;VALUE=URI;X-ADDRESS=Grace Evangelical Lutheran Church 610 N Reserve St Muncie IN 47303 United States;X-APPLE-RADIUS=500;X-TITLE=610 N Reserve St:geo:-85.3939106,40.1991599
END:VEVENT
BEGIN:VEVENT
DTSTART;TZID=UTC:20260607T103000
DTEND;TZID=UTC:20260607T113000
DTSTAMP:20260423T193303
CREATED:20260127T032040Z
LAST-MODIFIED:20260218T231151Z
UID:10004699-1780828200-1780831800@gracemuncielcms.com
SUMMARY:Divine Service - Sunday 10:30 am
DESCRIPTION:
URL:https://gracemuncielcms.com/event/divine-service-sunday-1030-am/2026-06-07/
LOCATION:Grace Evangelical Lutheran Church\, 610 N Reserve St\, Muncie\, IN\, 47303\, United States
CATEGORIES:Divine Services,Education
ATTACH;FMTTYPE=image/jpeg:https://gracemuncielcms.com/wp-content/uploads/2021/12/11-e1729522131236.jpg
GEO:40.1991599;-85.3939106
X-APPLE-STRUCTURED-LOCATION;VALUE=URI;X-ADDRESS=Grace Evangelical Lutheran Church 610 N Reserve St Muncie IN 47303 United States;X-APPLE-RADIUS=500;X-TITLE=610 N Reserve St:geo:-85.3939106,40.1991599
END:VEVENT
BEGIN:VEVENT
DTSTART;TZID=UTC:20260614T080000
DTEND;TZID=UTC:20260614T090000
DTSTAMP:20260423T193303
CREATED:20260127T031749Z
LAST-MODIFIED:20260218T231249Z
UID:10004655-1781424000-1781427600@gracemuncielcms.com
SUMMARY:Divine Service - Sunday 8am
DESCRIPTION:
URL:https://gracemuncielcms.com/event/divine-service-sunday-8am/2026-06-14/
LOCATION:Grace Evangelical Lutheran Church\, 610 N Reserve St\, Muncie\, IN\, 47303\, United States
CATEGORIES:Divine Services,Education
ATTACH;FMTTYPE=image/jpeg:https://gracemuncielcms.com/wp-content/uploads/2021/12/11-e1729522131236.jpg
GEO:40.1991599;-85.3939106
X-APPLE-STRUCTURED-LOCATION;VALUE=URI;X-ADDRESS=Grace Evangelical Lutheran Church 610 N Reserve St Muncie IN 47303 United States;X-APPLE-RADIUS=500;X-TITLE=610 N Reserve St:geo:-85.3939106,40.1991599
END:VEVENT
BEGIN:VEVENT
DTSTART;TZID=UTC:20260614T103000
DTEND;TZID=UTC:20260614T113000
DTSTAMP:20260423T193303
CREATED:20260127T032040Z
LAST-MODIFIED:20260218T231151Z
UID:10004700-1781433000-1781436600@gracemuncielcms.com
SUMMARY:Divine Service - Sunday 10:30 am
DESCRIPTION:
URL:https://gracemuncielcms.com/event/divine-service-sunday-1030-am/2026-06-14/
LOCATION:Grace Evangelical Lutheran Church\, 610 N Reserve St\, Muncie\, IN\, 47303\, United States
CATEGORIES:Divine Services,Education
ATTACH;FMTTYPE=image/jpeg:https://gracemuncielcms.com/wp-content/uploads/2021/12/11-e1729522131236.jpg
GEO:40.1991599;-85.3939106
X-APPLE-STRUCTURED-LOCATION;VALUE=URI;X-ADDRESS=Grace Evangelical Lutheran Church 610 N Reserve St Muncie IN 47303 United States;X-APPLE-RADIUS=500;X-TITLE=610 N Reserve St:geo:-85.3939106,40.1991599
END:VEVENT
BEGIN:VEVENT
DTSTART;TZID=UTC:20260621T080000
DTEND;TZID=UTC:20260621T090000
DTSTAMP:20260423T193303
CREATED:20260127T031749Z
LAST-MODIFIED:20260218T231249Z
UID:10004656-1782028800-1782032400@gracemuncielcms.com
SUMMARY:Divine Service - Sunday 8am
DESCRIPTION:
URL:https://gracemuncielcms.com/event/divine-service-sunday-8am/2026-06-21/
LOCATION:Grace Evangelical Lutheran Church\, 610 N Reserve St\, Muncie\, IN\, 47303\, United States
CATEGORIES:Divine Services,Education
ATTACH;FMTTYPE=image/jpeg:https://gracemuncielcms.com/wp-content/uploads/2021/12/11-e1729522131236.jpg
GEO:40.1991599;-85.3939106
X-APPLE-STRUCTURED-LOCATION;VALUE=URI;X-ADDRESS=Grace Evangelical Lutheran Church 610 N Reserve St Muncie IN 47303 United States;X-APPLE-RADIUS=500;X-TITLE=610 N Reserve St:geo:-85.3939106,40.1991599
END:VEVENT
BEGIN:VEVENT
DTSTART;TZID=UTC:20260621T103000
DTEND;TZID=UTC:20260621T113000
DTSTAMP:20260423T193303
CREATED:20260127T032040Z
LAST-MODIFIED:20260218T231151Z
UID:10004701-1782037800-1782041400@gracemuncielcms.com
SUMMARY:Divine Service - Sunday 10:30 am
DESCRIPTION:
URL:https://gracemuncielcms.com/event/divine-service-sunday-1030-am/2026-06-21/
LOCATION:Grace Evangelical Lutheran Church\, 610 N Reserve St\, Muncie\, IN\, 47303\, United States
CATEGORIES:Divine Services,Education
ATTACH;FMTTYPE=image/jpeg:https://gracemuncielcms.com/wp-content/uploads/2021/12/11-e1729522131236.jpg
GEO:40.1991599;-85.3939106
X-APPLE-STRUCTURED-LOCATION;VALUE=URI;X-ADDRESS=Grace Evangelical Lutheran Church 610 N Reserve St Muncie IN 47303 United States;X-APPLE-RADIUS=500;X-TITLE=610 N Reserve St:geo:-85.3939106,40.1991599
END:VEVENT
BEGIN:VEVENT
DTSTART;TZID=UTC:20260628T080000
DTEND;TZID=UTC:20260628T090000
DTSTAMP:20260423T193303
CREATED:20260127T031749Z
LAST-MODIFIED:20260218T231249Z
UID:10004657-1782633600-1782637200@gracemuncielcms.com
SUMMARY:Divine Service - Sunday 8am
DESCRIPTION:
URL:https://gracemuncielcms.com/event/divine-service-sunday-8am/2026-06-28/
LOCATION:Grace Evangelical Lutheran Church\, 610 N Reserve St\, Muncie\, IN\, 47303\, United States
CATEGORIES:Divine Services,Education
ATTACH;FMTTYPE=image/jpeg:https://gracemuncielcms.com/wp-content/uploads/2021/12/11-e1729522131236.jpg
GEO:40.1991599;-85.3939106
X-APPLE-STRUCTURED-LOCATION;VALUE=URI;X-ADDRESS=Grace Evangelical Lutheran Church 610 N Reserve St Muncie IN 47303 United States;X-APPLE-RADIUS=500;X-TITLE=610 N Reserve St:geo:-85.3939106,40.1991599
END:VEVENT
BEGIN:VEVENT
DTSTART;TZID=UTC:20260628T103000
DTEND;TZID=UTC:20260628T113000
DTSTAMP:20260423T193303
CREATED:20260127T032040Z
LAST-MODIFIED:20260218T231151Z
UID:10004702-1782642600-1782646200@gracemuncielcms.com
SUMMARY:Divine Service - Sunday 10:30 am
DESCRIPTION:
URL:https://gracemuncielcms.com/event/divine-service-sunday-1030-am/2026-06-28/
LOCATION:Grace Evangelical Lutheran Church\, 610 N Reserve St\, Muncie\, IN\, 47303\, United States
CATEGORIES:Divine Services,Education
ATTACH;FMTTYPE=image/jpeg:https://gracemuncielcms.com/wp-content/uploads/2021/12/11-e1729522131236.jpg
GEO:40.1991599;-85.3939106
X-APPLE-STRUCTURED-LOCATION;VALUE=URI;X-ADDRESS=Grace Evangelical Lutheran Church 610 N Reserve St Muncie IN 47303 United States;X-APPLE-RADIUS=500;X-TITLE=610 N Reserve St:geo:-85.3939106,40.1991599
END:VEVENT
BEGIN:VEVENT
DTSTART;TZID=UTC:20260705T080000
DTEND;TZID=UTC:20260705T090000
DTSTAMP:20260423T193303
CREATED:20260127T031749Z
LAST-MODIFIED:20260218T231249Z
UID:10004658-1783238400-1783242000@gracemuncielcms.com
SUMMARY:Divine Service - Sunday 8am
DESCRIPTION:
URL:https://gracemuncielcms.com/event/divine-service-sunday-8am/2026-07-05/
LOCATION:Grace Evangelical Lutheran Church\, 610 N Reserve St\, Muncie\, IN\, 47303\, United States
CATEGORIES:Divine Services,Education
ATTACH;FMTTYPE=image/jpeg:https://gracemuncielcms.com/wp-content/uploads/2021/12/11-e1729522131236.jpg
GEO:40.1991599;-85.3939106
X-APPLE-STRUCTURED-LOCATION;VALUE=URI;X-ADDRESS=Grace Evangelical Lutheran Church 610 N Reserve St Muncie IN 47303 United States;X-APPLE-RADIUS=500;X-TITLE=610 N Reserve St:geo:-85.3939106,40.1991599
END:VEVENT
BEGIN:VEVENT
DTSTART;TZID=UTC:20260705T103000
DTEND;TZID=UTC:20260705T113000
DTSTAMP:20260423T193303
CREATED:20260127T032040Z
LAST-MODIFIED:20260218T231151Z
UID:10004703-1783247400-1783251000@gracemuncielcms.com
SUMMARY:Divine Service - Sunday 10:30 am
DESCRIPTION:
URL:https://gracemuncielcms.com/event/divine-service-sunday-1030-am/2026-07-05/
LOCATION:Grace Evangelical Lutheran Church\, 610 N Reserve St\, Muncie\, IN\, 47303\, United States
CATEGORIES:Divine Services,Education
ATTACH;FMTTYPE=image/jpeg:https://gracemuncielcms.com/wp-content/uploads/2021/12/11-e1729522131236.jpg
GEO:40.1991599;-85.3939106
X-APPLE-STRUCTURED-LOCATION;VALUE=URI;X-ADDRESS=Grace Evangelical Lutheran Church 610 N Reserve St Muncie IN 47303 United States;X-APPLE-RADIUS=500;X-TITLE=610 N Reserve St:geo:-85.3939106,40.1991599
END:VEVENT
BEGIN:VEVENT
DTSTART;TZID=UTC:20260712T080000
DTEND;TZID=UTC:20260712T090000
DTSTAMP:20260423T193303
CREATED:20260127T031749Z
LAST-MODIFIED:20260218T231249Z
UID:10004659-1783843200-1783846800@gracemuncielcms.com
SUMMARY:Divine Service - Sunday 8am
DESCRIPTION:
URL:https://gracemuncielcms.com/event/divine-service-sunday-8am/2026-07-12/
LOCATION:Grace Evangelical Lutheran Church\, 610 N Reserve St\, Muncie\, IN\, 47303\, United States
CATEGORIES:Divine Services,Education
ATTACH;FMTTYPE=image/jpeg:https://gracemuncielcms.com/wp-content/uploads/2021/12/11-e1729522131236.jpg
GEO:40.1991599;-85.3939106
X-APPLE-STRUCTURED-LOCATION;VALUE=URI;X-ADDRESS=Grace Evangelical Lutheran Church 610 N Reserve St Muncie IN 47303 United States;X-APPLE-RADIUS=500;X-TITLE=610 N Reserve St:geo:-85.3939106,40.1991599
END:VEVENT
BEGIN:VEVENT
DTSTART;TZID=UTC:20260712T103000
DTEND;TZID=UTC:20260712T113000
DTSTAMP:20260423T193303
CREATED:20260127T032040Z
LAST-MODIFIED:20260218T231151Z
UID:10004704-1783852200-1783855800@gracemuncielcms.com
SUMMARY:Divine Service - Sunday 10:30 am
DESCRIPTION:
URL:https://gracemuncielcms.com/event/divine-service-sunday-1030-am/2026-07-12/
LOCATION:Grace Evangelical Lutheran Church\, 610 N Reserve St\, Muncie\, IN\, 47303\, United States
CATEGORIES:Divine Services,Education
ATTACH;FMTTYPE=image/jpeg:https://gracemuncielcms.com/wp-content/uploads/2021/12/11-e1729522131236.jpg
GEO:40.1991599;-85.3939106
X-APPLE-STRUCTURED-LOCATION;VALUE=URI;X-ADDRESS=Grace Evangelical Lutheran Church 610 N Reserve St Muncie IN 47303 United States;X-APPLE-RADIUS=500;X-TITLE=610 N Reserve St:geo:-85.3939106,40.1991599
END:VEVENT
BEGIN:VEVENT
DTSTART;TZID=UTC:20260719T080000
DTEND;TZID=UTC:20260719T090000
DTSTAMP:20260423T193303
CREATED:20260127T031749Z
LAST-MODIFIED:20260218T231249Z
UID:10004660-1784448000-1784451600@gracemuncielcms.com
SUMMARY:Divine Service - Sunday 8am
DESCRIPTION:
URL:https://gracemuncielcms.com/event/divine-service-sunday-8am/2026-07-19/
LOCATION:Grace Evangelical Lutheran Church\, 610 N Reserve St\, Muncie\, IN\, 47303\, United States
CATEGORIES:Divine Services,Education
ATTACH;FMTTYPE=image/jpeg:https://gracemuncielcms.com/wp-content/uploads/2021/12/11-e1729522131236.jpg
GEO:40.1991599;-85.3939106
X-APPLE-STRUCTURED-LOCATION;VALUE=URI;X-ADDRESS=Grace Evangelical Lutheran Church 610 N Reserve St Muncie IN 47303 United States;X-APPLE-RADIUS=500;X-TITLE=610 N Reserve St:geo:-85.3939106,40.1991599
END:VEVENT
BEGIN:VEVENT
DTSTART;TZID=UTC:20260719T103000
DTEND;TZID=UTC:20260719T113000
DTSTAMP:20260423T193303
CREATED:20260127T032040Z
LAST-MODIFIED:20260218T231151Z
UID:10004705-1784457000-1784460600@gracemuncielcms.com
SUMMARY:Divine Service - Sunday 10:30 am
DESCRIPTION:
URL:https://gracemuncielcms.com/event/divine-service-sunday-1030-am/2026-07-19/
LOCATION:Grace Evangelical Lutheran Church\, 610 N Reserve St\, Muncie\, IN\, 47303\, United States
CATEGORIES:Divine Services,Education
ATTACH;FMTTYPE=image/jpeg:https://gracemuncielcms.com/wp-content/uploads/2021/12/11-e1729522131236.jpg
GEO:40.1991599;-85.3939106
X-APPLE-STRUCTURED-LOCATION;VALUE=URI;X-ADDRESS=Grace Evangelical Lutheran Church 610 N Reserve St Muncie IN 47303 United States;X-APPLE-RADIUS=500;X-TITLE=610 N Reserve St:geo:-85.3939106,40.1991599
END:VEVENT
BEGIN:VEVENT
DTSTART;TZID=UTC:20260726T080000
DTEND;TZID=UTC:20260726T090000
DTSTAMP:20260423T193303
CREATED:20260127T031749Z
LAST-MODIFIED:20260218T231249Z
UID:10004661-1785052800-1785056400@gracemuncielcms.com
SUMMARY:Divine Service - Sunday 8am
DESCRIPTION:
URL:https://gracemuncielcms.com/event/divine-service-sunday-8am/2026-07-26/
LOCATION:Grace Evangelical Lutheran Church\, 610 N Reserve St\, Muncie\, IN\, 47303\, United States
CATEGORIES:Divine Services,Education
ATTACH;FMTTYPE=image/jpeg:https://gracemuncielcms.com/wp-content/uploads/2021/12/11-e1729522131236.jpg
GEO:40.1991599;-85.3939106
X-APPLE-STRUCTURED-LOCATION;VALUE=URI;X-ADDRESS=Grace Evangelical Lutheran Church 610 N Reserve St Muncie IN 47303 United States;X-APPLE-RADIUS=500;X-TITLE=610 N Reserve St:geo:-85.3939106,40.1991599
END:VEVENT
BEGIN:VEVENT
DTSTART;TZID=UTC:20260726T103000
DTEND;TZID=UTC:20260726T113000
DTSTAMP:20260423T193303
CREATED:20260127T032040Z
LAST-MODIFIED:20260218T231151Z
UID:10004706-1785061800-1785065400@gracemuncielcms.com
SUMMARY:Divine Service - Sunday 10:30 am
DESCRIPTION:
URL:https://gracemuncielcms.com/event/divine-service-sunday-1030-am/2026-07-26/
LOCATION:Grace Evangelical Lutheran Church\, 610 N Reserve St\, Muncie\, IN\, 47303\, United States
CATEGORIES:Divine Services,Education
ATTACH;FMTTYPE=image/jpeg:https://gracemuncielcms.com/wp-content/uploads/2021/12/11-e1729522131236.jpg
GEO:40.1991599;-85.3939106
X-APPLE-STRUCTURED-LOCATION;VALUE=URI;X-ADDRESS=Grace Evangelical Lutheran Church 610 N Reserve St Muncie IN 47303 United States;X-APPLE-RADIUS=500;X-TITLE=610 N Reserve St:geo:-85.3939106,40.1991599
END:VEVENT
BEGIN:VEVENT
DTSTART;TZID=UTC:20260802T080000
DTEND;TZID=UTC:20260802T090000
DTSTAMP:20260423T193303
CREATED:20260127T031749Z
LAST-MODIFIED:20260218T231249Z
UID:10004662-1785657600-1785661200@gracemuncielcms.com
SUMMARY:Divine Service - Sunday 8am
DESCRIPTION:
URL:https://gracemuncielcms.com/event/divine-service-sunday-8am/2026-08-02/
LOCATION:Grace Evangelical Lutheran Church\, 610 N Reserve St\, Muncie\, IN\, 47303\, United States
CATEGORIES:Divine Services,Education
ATTACH;FMTTYPE=image/jpeg:https://gracemuncielcms.com/wp-content/uploads/2021/12/11-e1729522131236.jpg
GEO:40.1991599;-85.3939106
X-APPLE-STRUCTURED-LOCATION;VALUE=URI;X-ADDRESS=Grace Evangelical Lutheran Church 610 N Reserve St Muncie IN 47303 United States;X-APPLE-RADIUS=500;X-TITLE=610 N Reserve St:geo:-85.3939106,40.1991599
END:VEVENT
BEGIN:VEVENT
DTSTART;TZID=UTC:20260802T103000
DTEND;TZID=UTC:20260802T113000
DTSTAMP:20260423T193303
CREATED:20260127T032040Z
LAST-MODIFIED:20260218T231151Z
UID:10004707-1785666600-1785670200@gracemuncielcms.com
SUMMARY:Divine Service - Sunday 10:30 am
DESCRIPTION:
URL:https://gracemuncielcms.com/event/divine-service-sunday-1030-am/2026-08-02/
LOCATION:Grace Evangelical Lutheran Church\, 610 N Reserve St\, Muncie\, IN\, 47303\, United States
CATEGORIES:Divine Services,Education
ATTACH;FMTTYPE=image/jpeg:https://gracemuncielcms.com/wp-content/uploads/2021/12/11-e1729522131236.jpg
GEO:40.1991599;-85.3939106
X-APPLE-STRUCTURED-LOCATION;VALUE=URI;X-ADDRESS=Grace Evangelical Lutheran Church 610 N Reserve St Muncie IN 47303 United States;X-APPLE-RADIUS=500;X-TITLE=610 N Reserve St:geo:-85.3939106,40.1991599
END:VEVENT
BEGIN:VEVENT
DTSTART;TZID=UTC:20260809T080000
DTEND;TZID=UTC:20260809T090000
DTSTAMP:20260423T193303
CREATED:20260127T031749Z
LAST-MODIFIED:20260218T231249Z
UID:10004663-1786262400-1786266000@gracemuncielcms.com
SUMMARY:Divine Service - Sunday 8am
DESCRIPTION:
URL:https://gracemuncielcms.com/event/divine-service-sunday-8am/2026-08-09/
LOCATION:Grace Evangelical Lutheran Church\, 610 N Reserve St\, Muncie\, IN\, 47303\, United States
CATEGORIES:Divine Services,Education
ATTACH;FMTTYPE=image/jpeg:https://gracemuncielcms.com/wp-content/uploads/2021/12/11-e1729522131236.jpg
GEO:40.1991599;-85.3939106
X-APPLE-STRUCTURED-LOCATION;VALUE=URI;X-ADDRESS=Grace Evangelical Lutheran Church 610 N Reserve St Muncie IN 47303 United States;X-APPLE-RADIUS=500;X-TITLE=610 N Reserve St:geo:-85.3939106,40.1991599
END:VEVENT
BEGIN:VEVENT
DTSTART;TZID=UTC:20260809T103000
DTEND;TZID=UTC:20260809T113000
DTSTAMP:20260423T193303
CREATED:20260127T032040Z
LAST-MODIFIED:20260218T231151Z
UID:10004708-1786271400-1786275000@gracemuncielcms.com
SUMMARY:Divine Service - Sunday 10:30 am
DESCRIPTION:
URL:https://gracemuncielcms.com/event/divine-service-sunday-1030-am/2026-08-09/
LOCATION:Grace Evangelical Lutheran Church\, 610 N Reserve St\, Muncie\, IN\, 47303\, United States
CATEGORIES:Divine Services,Education
ATTACH;FMTTYPE=image/jpeg:https://gracemuncielcms.com/wp-content/uploads/2021/12/11-e1729522131236.jpg
GEO:40.1991599;-85.3939106
X-APPLE-STRUCTURED-LOCATION;VALUE=URI;X-ADDRESS=Grace Evangelical Lutheran Church 610 N Reserve St Muncie IN 47303 United States;X-APPLE-RADIUS=500;X-TITLE=610 N Reserve St:geo:-85.3939106,40.1991599
END:VEVENT
BEGIN:VEVENT
DTSTART;TZID=UTC:20260816T080000
DTEND;TZID=UTC:20260816T090000
DTSTAMP:20260423T193303
CREATED:20260127T031749Z
LAST-MODIFIED:20260218T231249Z
UID:10004664-1786867200-1786870800@gracemuncielcms.com
SUMMARY:Divine Service - Sunday 8am
DESCRIPTION:
URL:https://gracemuncielcms.com/event/divine-service-sunday-8am/2026-08-16/
LOCATION:Grace Evangelical Lutheran Church\, 610 N Reserve St\, Muncie\, IN\, 47303\, United States
CATEGORIES:Divine Services,Education
ATTACH;FMTTYPE=image/jpeg:https://gracemuncielcms.com/wp-content/uploads/2021/12/11-e1729522131236.jpg
GEO:40.1991599;-85.3939106
X-APPLE-STRUCTURED-LOCATION;VALUE=URI;X-ADDRESS=Grace Evangelical Lutheran Church 610 N Reserve St Muncie IN 47303 United States;X-APPLE-RADIUS=500;X-TITLE=610 N Reserve St:geo:-85.3939106,40.1991599
END:VEVENT
BEGIN:VEVENT
DTSTART;TZID=UTC:20260816T103000
DTEND;TZID=UTC:20260816T113000
DTSTAMP:20260423T193303
CREATED:20260127T032040Z
LAST-MODIFIED:20260218T231151Z
UID:10004709-1786876200-1786879800@gracemuncielcms.com
SUMMARY:Divine Service - Sunday 10:30 am
DESCRIPTION:
URL:https://gracemuncielcms.com/event/divine-service-sunday-1030-am/2026-08-16/
LOCATION:Grace Evangelical Lutheran Church\, 610 N Reserve St\, Muncie\, IN\, 47303\, United States
CATEGORIES:Divine Services,Education
ATTACH;FMTTYPE=image/jpeg:https://gracemuncielcms.com/wp-content/uploads/2021/12/11-e1729522131236.jpg
GEO:40.1991599;-85.3939106
X-APPLE-STRUCTURED-LOCATION;VALUE=URI;X-ADDRESS=Grace Evangelical Lutheran Church 610 N Reserve St Muncie IN 47303 United States;X-APPLE-RADIUS=500;X-TITLE=610 N Reserve St:geo:-85.3939106,40.1991599
END:VEVENT
BEGIN:VEVENT
DTSTART;TZID=UTC:20260823T080000
DTEND;TZID=UTC:20260823T090000
DTSTAMP:20260423T193303
CREATED:20260127T031749Z
LAST-MODIFIED:20260218T231249Z
UID:10004665-1787472000-1787475600@gracemuncielcms.com
SUMMARY:Divine Service - Sunday 8am
DESCRIPTION:
URL:https://gracemuncielcms.com/event/divine-service-sunday-8am/2026-08-23/
LOCATION:Grace Evangelical Lutheran Church\, 610 N Reserve St\, Muncie\, IN\, 47303\, United States
CATEGORIES:Divine Services,Education
ATTACH;FMTTYPE=image/jpeg:https://gracemuncielcms.com/wp-content/uploads/2021/12/11-e1729522131236.jpg
GEO:40.1991599;-85.3939106
X-APPLE-STRUCTURED-LOCATION;VALUE=URI;X-ADDRESS=Grace Evangelical Lutheran Church 610 N Reserve St Muncie IN 47303 United States;X-APPLE-RADIUS=500;X-TITLE=610 N Reserve St:geo:-85.3939106,40.1991599
END:VEVENT
BEGIN:VEVENT
DTSTART;TZID=UTC:20260823T103000
DTEND;TZID=UTC:20260823T113000
DTSTAMP:20260423T193303
CREATED:20260127T032040Z
LAST-MODIFIED:20260218T231151Z
UID:10004710-1787481000-1787484600@gracemuncielcms.com
SUMMARY:Divine Service - Sunday 10:30 am
DESCRIPTION:
URL:https://gracemuncielcms.com/event/divine-service-sunday-1030-am/2026-08-23/
LOCATION:Grace Evangelical Lutheran Church\, 610 N Reserve St\, Muncie\, IN\, 47303\, United States
CATEGORIES:Divine Services,Education
ATTACH;FMTTYPE=image/jpeg:https://gracemuncielcms.com/wp-content/uploads/2021/12/11-e1729522131236.jpg
GEO:40.1991599;-85.3939106
X-APPLE-STRUCTURED-LOCATION;VALUE=URI;X-ADDRESS=Grace Evangelical Lutheran Church 610 N Reserve St Muncie IN 47303 United States;X-APPLE-RADIUS=500;X-TITLE=610 N Reserve St:geo:-85.3939106,40.1991599
END:VEVENT
BEGIN:VEVENT
DTSTART;TZID=UTC:20260830T080000
DTEND;TZID=UTC:20260830T090000
DTSTAMP:20260423T193303
CREATED:20260127T031749Z
LAST-MODIFIED:20260218T231249Z
UID:10004666-1788076800-1788080400@gracemuncielcms.com
SUMMARY:Divine Service - Sunday 8am
DESCRIPTION:
URL:https://gracemuncielcms.com/event/divine-service-sunday-8am/2026-08-30/
LOCATION:Grace Evangelical Lutheran Church\, 610 N Reserve St\, Muncie\, IN\, 47303\, United States
CATEGORIES:Divine Services,Education
ATTACH;FMTTYPE=image/jpeg:https://gracemuncielcms.com/wp-content/uploads/2021/12/11-e1729522131236.jpg
GEO:40.1991599;-85.3939106
X-APPLE-STRUCTURED-LOCATION;VALUE=URI;X-ADDRESS=Grace Evangelical Lutheran Church 610 N Reserve St Muncie IN 47303 United States;X-APPLE-RADIUS=500;X-TITLE=610 N Reserve St:geo:-85.3939106,40.1991599
END:VEVENT
BEGIN:VEVENT
DTSTART;TZID=UTC:20260830T103000
DTEND;TZID=UTC:20260830T113000
DTSTAMP:20260423T193303
CREATED:20260127T032040Z
LAST-MODIFIED:20260218T231151Z
UID:10004711-1788085800-1788089400@gracemuncielcms.com
SUMMARY:Divine Service - Sunday 10:30 am
DESCRIPTION:
URL:https://gracemuncielcms.com/event/divine-service-sunday-1030-am/2026-08-30/
LOCATION:Grace Evangelical Lutheran Church\, 610 N Reserve St\, Muncie\, IN\, 47303\, United States
CATEGORIES:Divine Services,Education
ATTACH;FMTTYPE=image/jpeg:https://gracemuncielcms.com/wp-content/uploads/2021/12/11-e1729522131236.jpg
GEO:40.1991599;-85.3939106
X-APPLE-STRUCTURED-LOCATION;VALUE=URI;X-ADDRESS=Grace Evangelical Lutheran Church 610 N Reserve St Muncie IN 47303 United States;X-APPLE-RADIUS=500;X-TITLE=610 N Reserve St:geo:-85.3939106,40.1991599
END:VEVENT
BEGIN:VEVENT
DTSTART;TZID=UTC:20260906T080000
DTEND;TZID=UTC:20260906T090000
DTSTAMP:20260423T193303
CREATED:20260127T031749Z
LAST-MODIFIED:20260218T231249Z
UID:10004667-1788681600-1788685200@gracemuncielcms.com
SUMMARY:Divine Service - Sunday 8am
DESCRIPTION:
URL:https://gracemuncielcms.com/event/divine-service-sunday-8am/2026-09-06/
LOCATION:Grace Evangelical Lutheran Church\, 610 N Reserve St\, Muncie\, IN\, 47303\, United States
CATEGORIES:Divine Services,Education
ATTACH;FMTTYPE=image/jpeg:https://gracemuncielcms.com/wp-content/uploads/2021/12/11-e1729522131236.jpg
GEO:40.1991599;-85.3939106
X-APPLE-STRUCTURED-LOCATION;VALUE=URI;X-ADDRESS=Grace Evangelical Lutheran Church 610 N Reserve St Muncie IN 47303 United States;X-APPLE-RADIUS=500;X-TITLE=610 N Reserve St:geo:-85.3939106,40.1991599
END:VEVENT
BEGIN:VEVENT
DTSTART;TZID=UTC:20260906T103000
DTEND;TZID=UTC:20260906T113000
DTSTAMP:20260423T193303
CREATED:20260127T032040Z
LAST-MODIFIED:20260218T231151Z
UID:10004712-1788690600-1788694200@gracemuncielcms.com
SUMMARY:Divine Service - Sunday 10:30 am
DESCRIPTION:
URL:https://gracemuncielcms.com/event/divine-service-sunday-1030-am/2026-09-06/
LOCATION:Grace Evangelical Lutheran Church\, 610 N Reserve St\, Muncie\, IN\, 47303\, United States
CATEGORIES:Divine Services,Education
ATTACH;FMTTYPE=image/jpeg:https://gracemuncielcms.com/wp-content/uploads/2021/12/11-e1729522131236.jpg
GEO:40.1991599;-85.3939106
X-APPLE-STRUCTURED-LOCATION;VALUE=URI;X-ADDRESS=Grace Evangelical Lutheran Church 610 N Reserve St Muncie IN 47303 United States;X-APPLE-RADIUS=500;X-TITLE=610 N Reserve St:geo:-85.3939106,40.1991599
END:VEVENT
END:VCALENDAR