BEGIN:VCALENDAR
VERSION:2.0
PRODID:-//Grace Lutheran Church - ECPv6.15.20//NONSGML v1.0//EN
CALSCALE:GREGORIAN
METHOD:PUBLISH
X-ORIGINAL-URL:https://gracemuncielcms.com
X-WR-CALDESC:Events for Grace Lutheran Church
REFRESH-INTERVAL;VALUE=DURATION:PT1H
X-Robots-Tag:noindex
X-PUBLISHED-TTL:PT1H
BEGIN:VTIMEZONE
TZID:UTC
BEGIN:STANDARD
TZOFFSETFROM:+0000
TZOFFSETTO:+0000
TZNAME:UTC
DTSTART:20250101T000000
END:STANDARD
END:VTIMEZONE
BEGIN:VEVENT
DTSTART;TZID=UTC:20260503T080000
DTEND;TZID=UTC:20260503T090000
DTSTAMP:20260423T153140
CREATED:20260127T031749Z
LAST-MODIFIED:20260218T231249Z
UID:10004649-1777795200-1777798800@gracemuncielcms.com
SUMMARY:Divine Service - Sunday 8am
DESCRIPTION:
URL:https://gracemuncielcms.com/event/divine-service-sunday-8am/2026-05-03/
LOCATION:Grace Evangelical Lutheran Church\, 610 N Reserve St\, Muncie\, IN\, 47303\, United States
CATEGORIES:Divine Services,Education
ATTACH;FMTTYPE=image/jpeg:https://gracemuncielcms.com/wp-content/uploads/2021/12/11-e1729522131236.jpg
GEO:40.1991599;-85.3939106
X-APPLE-STRUCTURED-LOCATION;VALUE=URI;X-ADDRESS=Grace Evangelical Lutheran Church 610 N Reserve St Muncie IN 47303 United States;X-APPLE-RADIUS=500;X-TITLE=610 N Reserve St:geo:-85.3939106,40.1991599
END:VEVENT
BEGIN:VEVENT
DTSTART;TZID=UTC:20260503T103000
DTEND;TZID=UTC:20260503T113000
DTSTAMP:20260423T153140
CREATED:20260127T032040Z
LAST-MODIFIED:20260218T231151Z
UID:10004694-1777804200-1777807800@gracemuncielcms.com
SUMMARY:Divine Service - Sunday 10:30 am
DESCRIPTION:
URL:https://gracemuncielcms.com/event/divine-service-sunday-1030-am/2026-05-03/
LOCATION:Grace Evangelical Lutheran Church\, 610 N Reserve St\, Muncie\, IN\, 47303\, United States
CATEGORIES:Divine Services,Education
ATTACH;FMTTYPE=image/jpeg:https://gracemuncielcms.com/wp-content/uploads/2021/12/11-e1729522131236.jpg
GEO:40.1991599;-85.3939106
X-APPLE-STRUCTURED-LOCATION;VALUE=URI;X-ADDRESS=Grace Evangelical Lutheran Church 610 N Reserve St Muncie IN 47303 United States;X-APPLE-RADIUS=500;X-TITLE=610 N Reserve St:geo:-85.3939106,40.1991599
END:VEVENT
BEGIN:VEVENT
DTSTART;TZID=UTC:20260510T080000
DTEND;TZID=UTC:20260510T090000
DTSTAMP:20260423T153140
CREATED:20260127T031749Z
LAST-MODIFIED:20260218T231249Z
UID:10004650-1778400000-1778403600@gracemuncielcms.com
SUMMARY:Divine Service - Sunday 8am
DESCRIPTION:
URL:https://gracemuncielcms.com/event/divine-service-sunday-8am/2026-05-10/
LOCATION:Grace Evangelical Lutheran Church\, 610 N Reserve St\, Muncie\, IN\, 47303\, United States
CATEGORIES:Divine Services,Education
ATTACH;FMTTYPE=image/jpeg:https://gracemuncielcms.com/wp-content/uploads/2021/12/11-e1729522131236.jpg
GEO:40.1991599;-85.3939106
X-APPLE-STRUCTURED-LOCATION;VALUE=URI;X-ADDRESS=Grace Evangelical Lutheran Church 610 N Reserve St Muncie IN 47303 United States;X-APPLE-RADIUS=500;X-TITLE=610 N Reserve St:geo:-85.3939106,40.1991599
END:VEVENT
BEGIN:VEVENT
DTSTART;TZID=UTC:20260510T103000
DTEND;TZID=UTC:20260510T113000
DTSTAMP:20260423T153140
CREATED:20260127T032040Z
LAST-MODIFIED:20260218T231151Z
UID:10004695-1778409000-1778412600@gracemuncielcms.com
SUMMARY:Divine Service - Sunday 10:30 am
DESCRIPTION:
URL:https://gracemuncielcms.com/event/divine-service-sunday-1030-am/2026-05-10/
LOCATION:Grace Evangelical Lutheran Church\, 610 N Reserve St\, Muncie\, IN\, 47303\, United States
CATEGORIES:Divine Services,Education
ATTACH;FMTTYPE=image/jpeg:https://gracemuncielcms.com/wp-content/uploads/2021/12/11-e1729522131236.jpg
GEO:40.1991599;-85.3939106
X-APPLE-STRUCTURED-LOCATION;VALUE=URI;X-ADDRESS=Grace Evangelical Lutheran Church 610 N Reserve St Muncie IN 47303 United States;X-APPLE-RADIUS=500;X-TITLE=610 N Reserve St:geo:-85.3939106,40.1991599
END:VEVENT
BEGIN:VEVENT
DTSTART;TZID=UTC:20260517T080000
DTEND;TZID=UTC:20260517T090000
DTSTAMP:20260423T153140
CREATED:20260127T031749Z
LAST-MODIFIED:20260218T231249Z
UID:10004651-1779004800-1779008400@gracemuncielcms.com
SUMMARY:Divine Service - Sunday 8am
DESCRIPTION:
URL:https://gracemuncielcms.com/event/divine-service-sunday-8am/2026-05-17/
LOCATION:Grace Evangelical Lutheran Church\, 610 N Reserve St\, Muncie\, IN\, 47303\, United States
CATEGORIES:Divine Services,Education
ATTACH;FMTTYPE=image/jpeg:https://gracemuncielcms.com/wp-content/uploads/2021/12/11-e1729522131236.jpg
GEO:40.1991599;-85.3939106
X-APPLE-STRUCTURED-LOCATION;VALUE=URI;X-ADDRESS=Grace Evangelical Lutheran Church 610 N Reserve St Muncie IN 47303 United States;X-APPLE-RADIUS=500;X-TITLE=610 N Reserve St:geo:-85.3939106,40.1991599
END:VEVENT
BEGIN:VEVENT
DTSTART;TZID=UTC:20260517T103000
DTEND;TZID=UTC:20260517T113000
DTSTAMP:20260423T153140
CREATED:20260127T032040Z
LAST-MODIFIED:20260218T231151Z
UID:10004696-1779013800-1779017400@gracemuncielcms.com
SUMMARY:Divine Service - Sunday 10:30 am
DESCRIPTION:
URL:https://gracemuncielcms.com/event/divine-service-sunday-1030-am/2026-05-17/
LOCATION:Grace Evangelical Lutheran Church\, 610 N Reserve St\, Muncie\, IN\, 47303\, United States
CATEGORIES:Divine Services,Education
ATTACH;FMTTYPE=image/jpeg:https://gracemuncielcms.com/wp-content/uploads/2021/12/11-e1729522131236.jpg
GEO:40.1991599;-85.3939106
X-APPLE-STRUCTURED-LOCATION;VALUE=URI;X-ADDRESS=Grace Evangelical Lutheran Church 610 N Reserve St Muncie IN 47303 United States;X-APPLE-RADIUS=500;X-TITLE=610 N Reserve St:geo:-85.3939106,40.1991599
END:VEVENT
BEGIN:VEVENT
DTSTART;TZID=UTC:20260524T080000
DTEND;TZID=UTC:20260524T090000
DTSTAMP:20260423T153140
CREATED:20260127T031749Z
LAST-MODIFIED:20260218T231249Z
UID:10004652-1779609600-1779613200@gracemuncielcms.com
SUMMARY:Divine Service - Sunday 8am
DESCRIPTION:
URL:https://gracemuncielcms.com/event/divine-service-sunday-8am/2026-05-24/
LOCATION:Grace Evangelical Lutheran Church\, 610 N Reserve St\, Muncie\, IN\, 47303\, United States
CATEGORIES:Divine Services,Education
ATTACH;FMTTYPE=image/jpeg:https://gracemuncielcms.com/wp-content/uploads/2021/12/11-e1729522131236.jpg
GEO:40.1991599;-85.3939106
X-APPLE-STRUCTURED-LOCATION;VALUE=URI;X-ADDRESS=Grace Evangelical Lutheran Church 610 N Reserve St Muncie IN 47303 United States;X-APPLE-RADIUS=500;X-TITLE=610 N Reserve St:geo:-85.3939106,40.1991599
END:VEVENT
BEGIN:VEVENT
DTSTART;TZID=UTC:20260524T103000
DTEND;TZID=UTC:20260524T113000
DTSTAMP:20260423T153140
CREATED:20260127T032040Z
LAST-MODIFIED:20260218T231151Z
UID:10004697-1779618600-1779622200@gracemuncielcms.com
SUMMARY:Divine Service - Sunday 10:30 am
DESCRIPTION:
URL:https://gracemuncielcms.com/event/divine-service-sunday-1030-am/2026-05-24/
LOCATION:Grace Evangelical Lutheran Church\, 610 N Reserve St\, Muncie\, IN\, 47303\, United States
CATEGORIES:Divine Services,Education
ATTACH;FMTTYPE=image/jpeg:https://gracemuncielcms.com/wp-content/uploads/2021/12/11-e1729522131236.jpg
GEO:40.1991599;-85.3939106
X-APPLE-STRUCTURED-LOCATION;VALUE=URI;X-ADDRESS=Grace Evangelical Lutheran Church 610 N Reserve St Muncie IN 47303 United States;X-APPLE-RADIUS=500;X-TITLE=610 N Reserve St:geo:-85.3939106,40.1991599
END:VEVENT
BEGIN:VEVENT
DTSTART;TZID=UTC:20260531T080000
DTEND;TZID=UTC:20260531T090000
DTSTAMP:20260423T153140
CREATED:20260127T031749Z
LAST-MODIFIED:20260218T231249Z
UID:10004653-1780214400-1780218000@gracemuncielcms.com
SUMMARY:Divine Service - Sunday 8am
DESCRIPTION:
URL:https://gracemuncielcms.com/event/divine-service-sunday-8am/2026-05-31/
LOCATION:Grace Evangelical Lutheran Church\, 610 N Reserve St\, Muncie\, IN\, 47303\, United States
CATEGORIES:Divine Services,Education
ATTACH;FMTTYPE=image/jpeg:https://gracemuncielcms.com/wp-content/uploads/2021/12/11-e1729522131236.jpg
GEO:40.1991599;-85.3939106
X-APPLE-STRUCTURED-LOCATION;VALUE=URI;X-ADDRESS=Grace Evangelical Lutheran Church 610 N Reserve St Muncie IN 47303 United States;X-APPLE-RADIUS=500;X-TITLE=610 N Reserve St:geo:-85.3939106,40.1991599
END:VEVENT
BEGIN:VEVENT
DTSTART;TZID=UTC:20260531T103000
DTEND;TZID=UTC:20260531T113000
DTSTAMP:20260423T153140
CREATED:20260127T032040Z
LAST-MODIFIED:20260218T231151Z
UID:10004698-1780223400-1780227000@gracemuncielcms.com
SUMMARY:Divine Service - Sunday 10:30 am
DESCRIPTION:
URL:https://gracemuncielcms.com/event/divine-service-sunday-1030-am/2026-05-31/
LOCATION:Grace Evangelical Lutheran Church\, 610 N Reserve St\, Muncie\, IN\, 47303\, United States
CATEGORIES:Divine Services,Education
ATTACH;FMTTYPE=image/jpeg:https://gracemuncielcms.com/wp-content/uploads/2021/12/11-e1729522131236.jpg
GEO:40.1991599;-85.3939106
X-APPLE-STRUCTURED-LOCATION;VALUE=URI;X-ADDRESS=Grace Evangelical Lutheran Church 610 N Reserve St Muncie IN 47303 United States;X-APPLE-RADIUS=500;X-TITLE=610 N Reserve St:geo:-85.3939106,40.1991599
END:VEVENT
END:VCALENDAR