BEGIN:VCALENDAR
VERSION:2.0
PRODID:-//Grace Lutheran Church - ECPv6.15.20//NONSGML v1.0//EN
CALSCALE:GREGORIAN
METHOD:PUBLISH
X-WR-CALNAME:Grace Lutheran Church
X-ORIGINAL-URL:https://gracemuncielcms.com
X-WR-CALDESC:Events for Grace Lutheran Church
REFRESH-INTERVAL;VALUE=DURATION:PT1H
X-Robots-Tag:noindex
X-PUBLISHED-TTL:PT1H
BEGIN:VTIMEZONE
TZID:UTC
BEGIN:STANDARD
TZOFFSETFROM:+0000
TZOFFSETTO:+0000
TZNAME:UTC
DTSTART:20250101T000000
END:STANDARD
END:VTIMEZONE
BEGIN:VEVENT
DTSTART;TZID=UTC:20260906T080000
DTEND;TZID=UTC:20260906T090000
DTSTAMP:20260423T205014
CREATED:20260127T031749Z
LAST-MODIFIED:20260218T231249Z
UID:10004667-1788681600-1788685200@gracemuncielcms.com
SUMMARY:Divine Service - Sunday 8am
DESCRIPTION:
URL:https://gracemuncielcms.com/event/divine-service-sunday-8am/2026-09-06/
LOCATION:Grace Evangelical Lutheran Church\, 610 N Reserve St\, Muncie\, IN\, 47303\, United States
CATEGORIES:Divine Services,Education
ATTACH;FMTTYPE=image/jpeg:https://gracemuncielcms.com/wp-content/uploads/2021/12/11-e1729522131236.jpg
GEO:40.1991599;-85.3939106
X-APPLE-STRUCTURED-LOCATION;VALUE=URI;X-ADDRESS=Grace Evangelical Lutheran Church 610 N Reserve St Muncie IN 47303 United States;X-APPLE-RADIUS=500;X-TITLE=610 N Reserve St:geo:-85.3939106,40.1991599
END:VEVENT
BEGIN:VEVENT
DTSTART;TZID=UTC:20260906T103000
DTEND;TZID=UTC:20260906T113000
DTSTAMP:20260423T205014
CREATED:20260127T032040Z
LAST-MODIFIED:20260218T231151Z
UID:10004712-1788690600-1788694200@gracemuncielcms.com
SUMMARY:Divine Service - Sunday 10:30 am
DESCRIPTION:
URL:https://gracemuncielcms.com/event/divine-service-sunday-1030-am/2026-09-06/
LOCATION:Grace Evangelical Lutheran Church\, 610 N Reserve St\, Muncie\, IN\, 47303\, United States
CATEGORIES:Divine Services,Education
ATTACH;FMTTYPE=image/jpeg:https://gracemuncielcms.com/wp-content/uploads/2021/12/11-e1729522131236.jpg
GEO:40.1991599;-85.3939106
X-APPLE-STRUCTURED-LOCATION;VALUE=URI;X-ADDRESS=Grace Evangelical Lutheran Church 610 N Reserve St Muncie IN 47303 United States;X-APPLE-RADIUS=500;X-TITLE=610 N Reserve St:geo:-85.3939106,40.1991599
END:VEVENT
BEGIN:VEVENT
DTSTART;TZID=UTC:20260913T080000
DTEND;TZID=UTC:20260913T090000
DTSTAMP:20260423T205014
CREATED:20260127T031749Z
LAST-MODIFIED:20260218T231249Z
UID:10004668-1789286400-1789290000@gracemuncielcms.com
SUMMARY:Divine Service - Sunday 8am
DESCRIPTION:
URL:https://gracemuncielcms.com/event/divine-service-sunday-8am/2026-09-13/
LOCATION:Grace Evangelical Lutheran Church\, 610 N Reserve St\, Muncie\, IN\, 47303\, United States
CATEGORIES:Divine Services,Education
ATTACH;FMTTYPE=image/jpeg:https://gracemuncielcms.com/wp-content/uploads/2021/12/11-e1729522131236.jpg
GEO:40.1991599;-85.3939106
X-APPLE-STRUCTURED-LOCATION;VALUE=URI;X-ADDRESS=Grace Evangelical Lutheran Church 610 N Reserve St Muncie IN 47303 United States;X-APPLE-RADIUS=500;X-TITLE=610 N Reserve St:geo:-85.3939106,40.1991599
END:VEVENT
BEGIN:VEVENT
DTSTART;TZID=UTC:20260913T103000
DTEND;TZID=UTC:20260913T113000
DTSTAMP:20260423T205014
CREATED:20260127T032040Z
LAST-MODIFIED:20260218T231151Z
UID:10004713-1789295400-1789299000@gracemuncielcms.com
SUMMARY:Divine Service - Sunday 10:30 am
DESCRIPTION:
URL:https://gracemuncielcms.com/event/divine-service-sunday-1030-am/2026-09-13/
LOCATION:Grace Evangelical Lutheran Church\, 610 N Reserve St\, Muncie\, IN\, 47303\, United States
CATEGORIES:Divine Services,Education
ATTACH;FMTTYPE=image/jpeg:https://gracemuncielcms.com/wp-content/uploads/2021/12/11-e1729522131236.jpg
GEO:40.1991599;-85.3939106
X-APPLE-STRUCTURED-LOCATION;VALUE=URI;X-ADDRESS=Grace Evangelical Lutheran Church 610 N Reserve St Muncie IN 47303 United States;X-APPLE-RADIUS=500;X-TITLE=610 N Reserve St:geo:-85.3939106,40.1991599
END:VEVENT
BEGIN:VEVENT
DTSTART;TZID=UTC:20260920T080000
DTEND;TZID=UTC:20260920T090000
DTSTAMP:20260423T205014
CREATED:20260127T031749Z
LAST-MODIFIED:20260218T231249Z
UID:10004669-1789891200-1789894800@gracemuncielcms.com
SUMMARY:Divine Service - Sunday 8am
DESCRIPTION:
URL:https://gracemuncielcms.com/event/divine-service-sunday-8am/2026-09-20/
LOCATION:Grace Evangelical Lutheran Church\, 610 N Reserve St\, Muncie\, IN\, 47303\, United States
CATEGORIES:Divine Services,Education
ATTACH;FMTTYPE=image/jpeg:https://gracemuncielcms.com/wp-content/uploads/2021/12/11-e1729522131236.jpg
GEO:40.1991599;-85.3939106
X-APPLE-STRUCTURED-LOCATION;VALUE=URI;X-ADDRESS=Grace Evangelical Lutheran Church 610 N Reserve St Muncie IN 47303 United States;X-APPLE-RADIUS=500;X-TITLE=610 N Reserve St:geo:-85.3939106,40.1991599
END:VEVENT
BEGIN:VEVENT
DTSTART;TZID=UTC:20260920T103000
DTEND;TZID=UTC:20260920T113000
DTSTAMP:20260423T205014
CREATED:20260127T032040Z
LAST-MODIFIED:20260218T231151Z
UID:10004714-1789900200-1789903800@gracemuncielcms.com
SUMMARY:Divine Service - Sunday 10:30 am
DESCRIPTION:
URL:https://gracemuncielcms.com/event/divine-service-sunday-1030-am/2026-09-20/
LOCATION:Grace Evangelical Lutheran Church\, 610 N Reserve St\, Muncie\, IN\, 47303\, United States
CATEGORIES:Divine Services,Education
ATTACH;FMTTYPE=image/jpeg:https://gracemuncielcms.com/wp-content/uploads/2021/12/11-e1729522131236.jpg
GEO:40.1991599;-85.3939106
X-APPLE-STRUCTURED-LOCATION;VALUE=URI;X-ADDRESS=Grace Evangelical Lutheran Church 610 N Reserve St Muncie IN 47303 United States;X-APPLE-RADIUS=500;X-TITLE=610 N Reserve St:geo:-85.3939106,40.1991599
END:VEVENT
BEGIN:VEVENT
DTSTART;TZID=UTC:20260927T080000
DTEND;TZID=UTC:20260927T090000
DTSTAMP:20260423T205014
CREATED:20260127T031749Z
LAST-MODIFIED:20260218T231249Z
UID:10004670-1790496000-1790499600@gracemuncielcms.com
SUMMARY:Divine Service - Sunday 8am
DESCRIPTION:
URL:https://gracemuncielcms.com/event/divine-service-sunday-8am/2026-09-27/
LOCATION:Grace Evangelical Lutheran Church\, 610 N Reserve St\, Muncie\, IN\, 47303\, United States
CATEGORIES:Divine Services,Education
ATTACH;FMTTYPE=image/jpeg:https://gracemuncielcms.com/wp-content/uploads/2021/12/11-e1729522131236.jpg
GEO:40.1991599;-85.3939106
X-APPLE-STRUCTURED-LOCATION;VALUE=URI;X-ADDRESS=Grace Evangelical Lutheran Church 610 N Reserve St Muncie IN 47303 United States;X-APPLE-RADIUS=500;X-TITLE=610 N Reserve St:geo:-85.3939106,40.1991599
END:VEVENT
BEGIN:VEVENT
DTSTART;TZID=UTC:20260927T103000
DTEND;TZID=UTC:20260927T113000
DTSTAMP:20260423T205014
CREATED:20260127T032040Z
LAST-MODIFIED:20260218T231151Z
UID:10004715-1790505000-1790508600@gracemuncielcms.com
SUMMARY:Divine Service - Sunday 10:30 am
DESCRIPTION:
URL:https://gracemuncielcms.com/event/divine-service-sunday-1030-am/2026-09-27/
LOCATION:Grace Evangelical Lutheran Church\, 610 N Reserve St\, Muncie\, IN\, 47303\, United States
CATEGORIES:Divine Services,Education
ATTACH;FMTTYPE=image/jpeg:https://gracemuncielcms.com/wp-content/uploads/2021/12/11-e1729522131236.jpg
GEO:40.1991599;-85.3939106
X-APPLE-STRUCTURED-LOCATION;VALUE=URI;X-ADDRESS=Grace Evangelical Lutheran Church 610 N Reserve St Muncie IN 47303 United States;X-APPLE-RADIUS=500;X-TITLE=610 N Reserve St:geo:-85.3939106,40.1991599
END:VEVENT
END:VCALENDAR